BEGIN:VCALENDAR
VERSION:2.0
PRODID:-//ChamberMaster//Event Calendar 2.0//EN
METHOD:PUBLISH
X-PUBLISHED-TTL:P3D
REFRESH-INTERVAL:P3D
CALSCALE:GREGORIAN
BEGIN:VEVENT
DTSTART:20161024T140000Z
DTEND:20161024T150000Z
X-MICROSOFT-CDO-ALLDAYEVENT:FALSE
SUMMARY:Ribbon Cutting for Murphy USA
DESCRIPTION:They are finally here - Murphy USA!  Everyone is invited to see the new station and store as well as be a part of their ribbon cutting.
X-ALT-DESC;FMTTYPE=text/html:They are finally here - Murphy USA!&nbsp\; Everyone is invited to see the new station and store as well as be a part of their ribbon cutting.
LOCATION:2275-B Hwy 515 Blairsville\, GA 30512 (Walmart parking lot)
UID:e.256.59452
SEQUENCE:3
DTSTAMP:20260420T130813Z
URL:https://members.visitblairsvillega.com/events/details/ribbon-cutting-for-murphy-usa-59452
END:VEVENT

END:VCALENDAR
