BEGIN:VCALENDAR
VERSION:2.0
PRODID:-//ChamberMaster//Event Calendar 2.0//EN
METHOD:PUBLISH
X-PUBLISHED-TTL:P3D
REFRESH-INTERVAL:P3D
CALSCALE:GREGORIAN
BEGIN:VEVENT
DTSTART:20170717T150000Z
DTEND:20170717T160000Z
X-MICROSOFT-CDO-ALLDAYEVENT:FALSE
SUMMARY:Ribbon Cutting for Naavah Hair Studio
DESCRIPTION:A ribbon cutting celebration will be held for Naavah Hair Studio with owner\, Heather Davenport.  Everyone is invited to come and see this new location and meet her talented team of stylists!
X-ALT-DESC;FMTTYPE=text/html:A ribbon cutting celebration will be held for Naavah Hair Studio with owner\, Heather Davenport.&nbsp\; Everyone is invited to come and see this new location and meet her talented team of stylists!
LOCATION:Naavah Hair Studio 199 Cleveland St Blairsville\, GA 30512
UID:e.256.74185
SEQUENCE:3
DTSTAMP:20260419T212957Z
URL:https://members.visitblairsvillega.com/events/details/ribbon-cutting-for-naavah-hair-studio-74185
END:VEVENT

END:VCALENDAR
