BEGIN:VCALENDAR
VERSION:2.0
PRODID:-//ChamberMaster//Event Calendar 2.0//EN
METHOD:PUBLISH
X-PUBLISHED-TTL:P3D
REFRESH-INTERVAL:P3D
CALSCALE:GREGORIAN
BEGIN:VEVENT
DTSTART:20160926T170000Z
DTEND:20160926T180000Z
X-MICROSOFT-CDO-ALLDAYEVENT:FALSE
SUMMARY:Ribbon Cutting for Nancy Dicks - Blairsville Realty
DESCRIPTION:Everyone is invited to attend a ribbon cutting for Nancy Dicks with Blairsville Realty.  Come on out to meet Nancy and see what is happening in our local real estate market.  Refreshments will be served.
X-ALT-DESC;FMTTYPE=text/html:Everyone is invited to attend a ribbon cutting for Nancy Dicks with Blairsville Realty.&nbsp\; Come on out to meet Nancy and see what is happening in our local real estate market.&nbsp\; Refreshments will be served.
LOCATION:Blairsville Realty 63 Murphy Highway Blairsville\, GA 30512
UID:e.256.57850
SEQUENCE:3
DTSTAMP:20260420T144735Z
URL:https://members.visitblairsvillega.com/events/details/ribbon-cutting-for-nancy-dicks-blairsville-realty-57850
END:VEVENT

END:VCALENDAR
