BEGIN:VCALENDAR
VERSION:2.0
PRODID:-//ChamberMaster//Event Calendar 2.0//EN
METHOD:PUBLISH
X-PUBLISHED-TTL:P3D
REFRESH-INTERVAL:P3D
CALSCALE:GREGORIAN
BEGIN:VEVENT
DTSTART:20150928T160000Z
DTEND:20150928T170000Z
X-MICROSOFT-CDO-ALLDAYEVENT:FALSE
SUMMARY:Ribbon Cutting for Nani's Restaurant
DESCRIPTION:A great ribbon cutting celebration will be happening at Nani's Restaurant.
X-ALT-DESC;FMTTYPE=text/html:<div>A great&nbsp\;ribbon cutting celebration will be happening at Nani&#39\;s Restaurant.</div>\n
LOCATION:51 D Earnest Street Blairsville\, GA 30512
UID:e.256.44215
SEQUENCE:3
DTSTAMP:20260423T134245Z
URL:https://members.visitblairsvillega.com/events/details/ribbon-cutting-for-nani-s-restaurant-09-28-2015-44215
END:VEVENT

END:VCALENDAR
