BEGIN:VCALENDAR
VERSION:2.0
PRODID:-//ChamberMaster//Event Calendar 2.0//EN
METHOD:PUBLISH
X-PUBLISHED-TTL:P3D
REFRESH-INTERVAL:P3D
CALSCALE:GREGORIAN
BEGIN:VEVENT
DTSTART:20170522T170000Z
DTEND:20170522T180000Z
X-MICROSOFT-CDO-ALLDAYEVENT:FALSE
SUMMARY:Ribbon Cutting for Naomi Nelson - RE/MAX Town & Country
DESCRIPTION:Everyone is invited to attend a ribbon cutting for Naomi Nelson with Re/Max Town & Country.  Come on out to meet Naomi and see what is happening in our local real estate market.  Refreshments will be served.
X-ALT-DESC;FMTTYPE=text/html:Everyone is invited to attend a ribbon cutting for Naomi Nelson with Re/Max Town &amp\; Country.&nbsp\; Come on out to meet Naomi and see what is happening in our local real estate market.&nbsp\; Refreshments will be served.<br />\n&nbsp\;
LOCATION:Blairsville-Union County Chamber of Commerce 129 Union County Recreation Rd Blairsville\, GA 30512
UID:e.256.70005
SEQUENCE:3
DTSTAMP:20260420T010553Z
URL:https://members.visitblairsvillega.com/events/details/ribbon-cutting-for-naomi-nelson-re-max-town-country-70005
END:VEVENT

END:VCALENDAR
