BEGIN:VCALENDAR
VERSION:2.0
PRODID:-//ChamberMaster//Event Calendar 2.0//EN
METHOD:PUBLISH
X-PUBLISHED-TTL:P3D
REFRESH-INTERVAL:P3D
CALSCALE:GREGORIAN
BEGIN:VEVENT
DTSTART:20170206T150000Z
DTEND:20170206T160000Z
X-MICROSOFT-CDO-ALLDAYEVENT:FALSE
SUMMARY:Ribbon Cutting for Nate's Wings\, Burgers & Seafood
DESCRIPTION:We're all heading to Nate's Wings\, Burgers\, & Seafood to celebrate the opening of this new\, hometown restaurant with a Chamber ribbon cutting. Bring your business cards for drawings and gift certificates.  Samples will be served.  Be sure to come and meet the Mills family -- Nate\, Dick\, & Latrece from 7M Farms and see what fresh food is all about!
X-ALT-DESC;FMTTYPE=text/html:We&#39\;re all heading to Nate&#39\;s Wings\, Burgers\, &amp\; Seafood to celebrate the opening of this new\, hometown restaurant with a Chamber ribbon cutting. Bring your business cards for drawings and gift certificates.&nbsp\; Samples will be served.&nbsp\; Be sure to come and meet the Mills family -- Nate\, Dick\, &amp\; Latrece from 7M Farms and see what fresh food is all about!
LOCATION:94F Season's Plaza Blairsville\, GA
UID:e.256.63591
SEQUENCE:3
DTSTAMP:20260420T061635Z
URL:https://members.visitblairsvillega.com/events/details/ribbon-cutting-for-nate-s-wings-burgers-seafood-63591
END:VEVENT

END:VCALENDAR
