BEGIN:VCALENDAR
VERSION:2.0
PRODID:-//ChamberMaster//Event Calendar 2.0//EN
METHOD:PUBLISH
X-PUBLISHED-TTL:P3D
REFRESH-INTERVAL:P3D
CALSCALE:GREGORIAN
BEGIN:VEVENT
DTSTART:20170831T150000Z
DTEND:20170831T160000Z
X-MICROSOFT-CDO-ALLDAYEVENT:FALSE
SUMMARY:Ribbon Cutting for Nathan Burnett Photography
DESCRIPTION:A ribbon cutting celebration will be held for Nathan Burnett Photography.  Are you or someone you know planning a special event in the area?  Everyone is invited to come meet Nathan Burnett\, a freelance photographer living in the mountains of North Georgia\, specializing in wedding\, people\, event\, and landscape photography.
X-ALT-DESC;FMTTYPE=text/html:<p style="margin: 0px 0px 11px\;"><font color="#000000" face="Calibri" size="3">A ribbon cutting celebration will be held for Nathan Burnett Photography.<span style="margin: 0px\;">&nbsp\; </span>Are you or someone you know planning a special event in the area?<span style="margin: 0px\;">&nbsp\; </span>Everyone is invited to come meet Nathan Burnett\, a freelance photographer&nbsp\;living in the&nbsp\;mountains of North Georgia\, specializing in wedding\, people\, event\, and landscape photography.</font></p>\n
LOCATION:Blairsville-Union County Chamber of Commerce 129 Union County Recreation Rd Blairsville\, GA 30512
UID:e.256.75279
SEQUENCE:3
DTSTAMP:20260419T195345Z
URL:https://members.visitblairsvillega.com/events/details/ribbon-cutting-for-nathan-burnett-photography-75279
END:VEVENT

END:VCALENDAR
