BEGIN:VCALENDAR
VERSION:2.0
PRODID:-//ChamberMaster//Event Calendar 2.0//EN
METHOD:PUBLISH
X-PUBLISHED-TTL:P3D
REFRESH-INTERVAL:P3D
CALSCALE:GREGORIAN
BEGIN:VEVENT
DTSTART:20150915T140000Z
DTEND:20150915T150000Z
X-MICROSOFT-CDO-ALLDAYEVENT:FALSE
SUMMARY:Ribbon Cutting for NE Georgia Board of Realtors Community Outreach Foundation
DESCRIPTION:A ribbon cutting will be held to recognize the Northeast Georgia Board of Realtors Community Outreach Foundation.
X-ALT-DESC;FMTTYPE=text/html:A ribbon cutting will be held to recognize the Northeast Georgia Board of Realtors Community Outreach Foundation.
LOCATION:Blairsville-Union County Chamber of Commerce Union County Community Center 129 Union County Recreation Road Blairsville\, GA 30512
UID:e.256.41330
SEQUENCE:3
DTSTAMP:20260423T122551Z
URL:https://members.visitblairsvillega.com/events/details/ribbon-cutting-for-ne-georgia-board-of-realtors-community-outreach-foundation-09-15-2015-41330
END:VEVENT

END:VCALENDAR
