BEGIN:VCALENDAR
VERSION:2.0
PRODID:-//ChamberMaster//Event Calendar 2.0//EN
METHOD:PUBLISH
X-PUBLISHED-TTL:P3D
REFRESH-INTERVAL:P3D
CALSCALE:GREGORIAN
BEGIN:VEVENT
DTSTART:20160426T143000Z
DTEND:20160427T033000Z
X-MICROSOFT-CDO-ALLDAYEVENT:FALSE
SUMMARY:Ribbon Cutting for NGTC Health Science Wing
DESCRIPTION:North Georgia Technical College invites you to the ribbon cutting of the Health Science Wing on the Blairsville Campus.
X-ALT-DESC;FMTTYPE=text/html:North Georgia Technical College invites you to the ribbon cutting of the Health Science Wing on the Blairsville Campus.
LOCATION:North Georgia Technical College-Blairsville Campus 121 Meeks Avenue
UID:e.256.50935
SEQUENCE:3
DTSTAMP:20260421T022244Z
URL:https://members.visitblairsvillega.com/events/details/ribbon-cutting-for-ngtc-health-science-wing-04-26-2016-50935
END:VEVENT

END:VCALENDAR
