BEGIN:VCALENDAR
VERSION:2.0
PRODID:-//ChamberMaster//Event Calendar 2.0//EN
METHOD:PUBLISH
X-PUBLISHED-TTL:P3D
REFRESH-INTERVAL:P3D
CALSCALE:GREGORIAN
BEGIN:VEVENT
DTSTART:20170802T150000Z
DTEND:20170802T160000Z
X-MICROSOFT-CDO-ALLDAYEVENT:FALSE
SUMMARY:Ribbon Cutting for North Georgia Tax Solutions
DESCRIPTION:A ribbon cutting celebration will be held for North Georgia Tax Solutions.  North Georgia Tax Solutions has your tax needs covered whether you're a small business\, larger enterprise\, fortune 500 company\, or individual they've done them all.  Everyone is invited to come and meet the owner\, Debbie Snelling\, and see what services her great team has available.
X-ALT-DESC;FMTTYPE=text/html:<span style="font-size:medium\;"><span style="font-family:calibri\;">A ribbon cutting celebration will be held for <em>North Georgia Tax Solutions.&nbsp\; North Georgia Tax Solutions </em>has your tax needs covered&mdash\;whether you&rsquo\;re a small business\, larger enterprise\, fortune 500 company\, or individual&mdash\;they&rsquo\;ve done them all.&nbsp\; Everyone is invited to come and meet the owner\, Debbie Snelling\, and see what services her great team has available.</span></span>
LOCATION:417 Blue Ridge St\, Ste N Blairsville\, GA 30512
UID:e.256.75272
SEQUENCE:3
DTSTAMP:20260419T195258Z
URL:https://members.visitblairsvillega.com/events/details/ribbon-cutting-for-north-georgia-tax-solutions-75272
END:VEVENT

END:VCALENDAR
