BEGIN:VCALENDAR
VERSION:2.0
PRODID:-//ChamberMaster//Event Calendar 2.0//EN
METHOD:PUBLISH
X-PUBLISHED-TTL:P3D
REFRESH-INTERVAL:P3D
CALSCALE:GREGORIAN
BEGIN:VEVENT
DTSTART:20140731T140000Z
DTEND:20140731T150000Z
X-MICROSOFT-CDO-ALLDAYEVENT:FALSE
SUMMARY:Ribbon Cutting for North Georgia Trading Company
DESCRIPTION:Please join Us On Thursday\, July 31\,2014 at 10:00am Chamber of Commerce Ribbon Cutting for North Georgia Trading Company\, located at 37A Young Harris Street\, across the street from Proflame Gas Company. "Parking Available at Foodland" for the ribbon cutting. \n\nFree 'Made in the USA' Fudge!\n\nDoor Prizes\n\nLight Refreshments\n\nwww.northgeorgiatradingcompany.com
X-ALT-DESC;FMTTYPE=text/html:Please join Us On Thursday\, July 31\,2014 at 10:00am&nbsp\;Chamber of Commerce Ribbon Cutting for North Georgia Trading Company\, located at 37A Young Harris Street\, across the street from Proflame Gas Company. <em><span style="font-family:calibri\,sans-serif\;"><span style="font-size:12.0pt\;">&ldquo\;Parking Available at Foodland&rdquo\;</span></span></em><span style="font-family:calibri\,sans-serif\;"><span style="font-size:12.0pt\;"> for the ribbon cutting. </span></span><br />\nFree &#39\;Made in the USA&#39\; Fudge!<br />\nDoor Prizes<br />\nLight Refreshments<br />\nwww.northgeorgiatradingcompany.com
LOCATION:North Georgia Trading Company 37A Young Harris Street Blairsville
UID:e.256.25351
SEQUENCE:3
DTSTAMP:20260424T105552Z
URL:https://members.visitblairsvillega.com/events/details/ribbon-cutting-for-north-georgia-trading-company-07-31-2014-25351
END:VEVENT

END:VCALENDAR
