BEGIN:VCALENDAR
VERSION:2.0
PRODID:-//ChamberMaster//Event Calendar 2.0//EN
METHOD:PUBLISH
X-PUBLISHED-TTL:P3D
REFRESH-INTERVAL:P3D
CALSCALE:GREGORIAN
BEGIN:VEVENT
DTSTART:20160526T180000Z
DTEND:20160526T190000Z
X-MICROSOFT-CDO-ALLDAYEVENT:FALSE
SUMMARY:Ribbon Cutting for North Georgia Water Sports LLC
DESCRIPTION:Julio Abreu and his staff invites everyone to come out and be a part of their ribbon cutting with door prizes and refreshments.
X-ALT-DESC;FMTTYPE=text/html:&nbsp\;Julio Abreu and his staff invites everyone to come out and be a part of their ribbon cutting with door prizes and refreshments.
LOCATION:1733 Murphy Highway Blairsville\, GA. 30512
UID:e.256.51232
SEQUENCE:3
DTSTAMP:20260420T223419Z
URL:https://members.visitblairsvillega.com/events/details/ribbon-cutting-for-north-georgia-water-sports-llc-05-26-2016-51232
END:VEVENT

END:VCALENDAR
