BEGIN:VCALENDAR
VERSION:2.0
PRODID:-//ChamberMaster//Event Calendar 2.0//EN
METHOD:PUBLISH
X-PUBLISHED-TTL:P3D
REFRESH-INTERVAL:P3D
CALSCALE:GREGORIAN
BEGIN:VEVENT
DTSTART:20150606T134500Z
DTEND:20150606T140000Z
X-MICROSOFT-CDO-ALLDAYEVENT:FALSE
SUMMARY:Ribbon Cutting for Northeast Georgia Home & Garden Show
DESCRIPTION:Join us for Northeast Georgia Home & Garden Show's Ribbon Cutting. The ceremony will be held at 9:45am right before the doors open for the show!
X-ALT-DESC;FMTTYPE=text/html:Join us for Northeast Georgia Home &amp\; Garden Show&#39\;s Ribbon Cutting. The ceremony will be held at 9:45am right before the doors open for the show!
LOCATION:The Event Center at Fieldstone 1159 Jack Dayton Circle Young Harris\, GA 30582
UID:e.256.39918
SEQUENCE:3
DTSTAMP:20260423T170135Z
URL:https://members.visitblairsvillega.com/events/details/ribbon-cutting-for-northeast-georgia-home-garden-show-06-06-2015-39918
END:VEVENT

END:VCALENDAR
