BEGIN:VCALENDAR
VERSION:2.0
PRODID:-//ChamberMaster//Event Calendar 2.0//EN
METHOD:PUBLISH
X-PUBLISHED-TTL:P3D
REFRESH-INTERVAL:P3D
CALSCALE:GREGORIAN
BEGIN:VEVENT
DTSTART:20160722T200000Z
DTEND:20160722T210000Z
X-MICROSOFT-CDO-ALLDAYEVENT:FALSE
SUMMARY:Ribbon Cutting for Nottely Boat Club & Marina
DESCRIPTION:Come on down and join Brett\, Doug\, and Mike at the newly renovated Nottely Boat Club and Marina.  Right on beautiful Lake Nottely\, the club has a small sandwich and retail shop\, outdoor deck\, sandy beach\, and boat rentals.   Refreshments will be served and one lucky person could win a two-hour 2016 Tritoon rental.
X-ALT-DESC;FMTTYPE=text/html:Come on down and join Brett\, Doug\, and Mike at the newly renovated Nottely Boat Club and Marina.&nbsp\; Right on beautiful Lake Nottely\, the club has a small sandwich and retail shop\, outdoor deck\,&nbsp\;sandy beach\, and boat rentals.&nbsp\; &nbsp\;Refreshments will be served and one lucky&nbsp\;person could win&nbsp\;a&nbsp\;two-hour&nbsp\;2016 Tritoon rental.
LOCATION:6036 Hwy 325 Blairsville\, GA 30512
UID:e.256.52986
SEQUENCE:3
DTSTAMP:20260420T184527Z
URL:https://members.visitblairsvillega.com/events/details/ribbon-cutting-for-nottely-boat-club-marina-07-22-2016-52986
END:VEVENT

END:VCALENDAR
