BEGIN:VCALENDAR
VERSION:2.0
PRODID:-//ChamberMaster//Event Calendar 2.0//EN
METHOD:PUBLISH
X-PUBLISHED-TTL:P3D
REFRESH-INTERVAL:P3D
CALSCALE:GREGORIAN
BEGIN:VEVENT
DTSTART:20140725T160000Z
DTEND:20140725T170000Z
X-MICROSOFT-CDO-ALLDAYEVENT:FALSE
SUMMARY:Ribbon Cutting for NYR Organic Independent Consultant - Kim Madren
DESCRIPTION:You're Invited!\n\nJoin the Chamber of Commerce for a ribbon cutting for NYR Organic - Independent Consultant\, Kim Madren on Friday\, July 25th at 12:00pm at the Union County Chamber of Commerce\, located at 129 Union County Rec Rd.  \n\nHere are just a few reasons to come find out about this Organic company:\nWe were founded in England in 1981\, and we're still there. We design\, test and manufacture all our own products at our eco-headquarters and physic gardens in Dorset\, UK.\n\nGrow your own\n\nWe do. We know the origins of all our herbs and ingredients. We grow as many as we can in our gardens in Peacemarsh\, Dorset\, UK and at Sheepdrove Organic Farm on the Lambourn Downs in Berkshire\, UK.\n\nGreener by design\n\nOur eco-factory uses solar panels on the roof\, clay flooring\, and high-level windows to keep cool\, and uses rainwater in the restrooms. We even compost the kitchen waste\, which is mostly organic\, of course.\nhttps://us.nyrorganic.com/shop/kimmadren
X-ALT-DESC;FMTTYPE=text/html:You&#39\;re Invited!<br />\nJoin the Chamber of Commerce for a ribbon cutting for&nbsp\;NYR&nbsp\;Organic -&nbsp\;Independent Consultant\, Kim Madren&nbsp\;on Friday\, July 25th at 12:00pm at the Union County Chamber of Commerce\, located at 129 Union County Rec Rd.&nbsp\;&nbsp\;<br />\nHere are just a few reasons to come find out about this Organic company:\n<p>We were founded in England in 1981\, and we&#39\;re still there. We design\, test and manufacture all our own products at our eco-headquarters and physic gardens in Dorset\, UK.</p>\n\n<h2 class="rose">Grow your own</h2>\n\n<p>We do. We know the origins of all our herbs and ingredients. We grow as many as we can in our gardens in Peacemarsh\, Dorset\, UK and at Sheepdrove Organic Farm on the Lambourn Downs in Berkshire\, UK.</p>\n\n<h2 class="rose">Greener by design</h2>\n\n<p>Our eco-factory uses solar panels on the roof\, clay flooring\, and high-level windows to keep cool\, and uses rainwater in the restrooms. We even compost the kitchen waste\, which is mostly organic\, of course.</p>\n<u><strong>https://us.nyrorganic.com/shop/kimmadren</strong></u>
LOCATION:Union County Chamber of Commerce Union County Community Center 129 Union County Rec Rd
UID:e.256.24904
SEQUENCE:3
DTSTAMP:20260424T092622Z
URL:https://members.visitblairsvillega.com/events/details/ribbon-cutting-for-nyr-organic-independent-consultant-kim-madren-07-25-2014-24904
END:VEVENT

END:VCALENDAR
