BEGIN:VCALENDAR
VERSION:2.0
PRODID:-//ChamberMaster//Event Calendar 2.0//EN
METHOD:PUBLISH
X-PUBLISHED-TTL:P3D
REFRESH-INTERVAL:P3D
CALSCALE:GREGORIAN
BEGIN:VEVENT
DTSTART:20170626T150000Z
DTEND:20170626T160000Z
X-MICROSOFT-CDO-ALLDAYEVENT:FALSE
SUMMARY:Ribbon Cutting for Old Mountain Electronics
DESCRIPTION:A ribbon cutting will be held on Monday\, June 26 for Old Mountain Electronics located at 60A Rogers St (next door to the Alleghaney Lodge).
X-ALT-DESC;FMTTYPE=text/html:A ribbon cutting will be held on Monday\, June 26 for Old Mountain Electronics located at 60A Rogers St (next door to the Alleghaney Lodge).
LOCATION:60A Rogers St. Blairsville\, GA 30512
UID:e.256.70010
SEQUENCE:3
DTSTAMP:20260420T002928Z
URL:https://members.visitblairsvillega.com/events/details/ribbon-cutting-for-old-mountain-electronics-70010
END:VEVENT

END:VCALENDAR
