BEGIN:VCALENDAR
VERSION:2.0
PRODID:-//ChamberMaster//Event Calendar 2.0//EN
METHOD:PUBLISH
X-PUBLISHED-TTL:P3D
REFRESH-INTERVAL:P3D
CALSCALE:GREGORIAN
BEGIN:VEVENT
DTSTART:20150924T150000Z
DTEND:20150924T160000Z
X-MICROSOFT-CDO-ALLDAYEVENT:FALSE
SUMMARY:Ribbon Cutting for Olive Tree Art Centre
DESCRIPTION:We are so excited to announce that the highly anticipated opening of the Olive Tree Art Centre is finally here!  Everyone is invited to attend the ribbon cutting celebration and meet the owners\, Mark and Sharon Wingertsahn.  Be prepared to be overwhelmed by the beauty and creativity of this studio and gallery combination. #BelieveIt
X-ALT-DESC;FMTTYPE=text/html:We are so excited to announce that the&nbsp\;highly anticipated opening of the Olive Tree Art Centre&nbsp\;is finally here!&nbsp\; Everyone is invited to attend the ribbon cutting celebration and meet the&nbsp\;owners\, Mark and Sharon Wingertsahn.&nbsp\; Be prepared to be overwhelmed by the beauty and creativity of this studio and gallery combination. #BelieveIt
LOCATION:563 Gainesville Highway Blairsville\, GA 30512
UID:e.256.43927
SEQUENCE:3
DTSTAMP:20260423T134034Z
URL:https://members.visitblairsvillega.com/events/details/ribbon-cutting-for-olive-tree-art-centre-09-24-2015-43927
END:VEVENT

END:VCALENDAR
