BEGIN:VCALENDAR
VERSION:2.0
PRODID:-//ChamberMaster//Event Calendar 2.0//EN
METHOD:PUBLISH
X-PUBLISHED-TTL:P3D
REFRESH-INTERVAL:P3D
CALSCALE:GREGORIAN
BEGIN:VEVENT
DTSTART:20140204T163000Z
DTEND:20140204T173000Z
X-MICROSOFT-CDO-ALLDAYEVENT:FALSE
SUMMARY:Ribbon Cutting for Ollies Grill and Smokehouse
DESCRIPTION:Join the Chamber for a ribbon cutting on Tuesday\, February 4th at 11:30am for Ollies Grill and Smokehouse\, located at 94 Town Center Suite F\, downtown Blairsville.
X-ALT-DESC;FMTTYPE=text/html:Join the Chamber for a ribbon cutting on Tuesday\, February 4th at 11:30am for Ollies Grill and Smokehouse\, located at 94 Town Center Suite F\, downtown Blairsville.<br type="_moz" />\n
LOCATION:Ollies Grill and Smokehouse 94 Town Center\, Suite F ( downtown Blairsville ) Blairsville\, GA
UID:e.256.22396
SEQUENCE:3
DTSTAMP:20260424T182704Z
URL:https://members.visitblairsvillega.com/events/details/ribbon-cutting-for-ollies-grill-and-smokehouse-02-04-2014-22396
END:VEVENT

END:VCALENDAR
