BEGIN:VCALENDAR
VERSION:2.0
PRODID:-//ChamberMaster//Event Calendar 2.0//EN
METHOD:PUBLISH
X-PUBLISHED-TTL:P3D
REFRESH-INTERVAL:P3D
CALSCALE:GREGORIAN
BEGIN:VEVENT
DTSTART:20170712T180000Z
DTEND:20170712T190000Z
X-MICROSOFT-CDO-ALLDAYEVENT:FALSE
SUMMARY:Ribbon Cutting for Pampered Chef by Jennifer Sanders
DESCRIPTION:A ribbon cutting will be held for Pampered Chef by Jennifer Sanders.  Everyone is invited to come out and meet Jennifer and see what new and exciting products she has available.
X-ALT-DESC;FMTTYPE=text/html:A ribbon cutting will be held for Pampered Chef by Jennifer Sanders.&nbsp\; Everyone is invited to come out and meet Jennifer and see what new and exciting products she has available.
LOCATION:Blairsville-Union County Chamber of Commerce 129 Union County Recreation Rd Blairsville\, GA 30512
UID:e.256.74183
SEQUENCE:3
DTSTAMP:20260419T230013Z
URL:https://members.visitblairsvillega.com/events/details/ribbon-cutting-for-pampered-chef-by-jennifer-sanders-74183
END:VEVENT

END:VCALENDAR
