BEGIN:VCALENDAR
VERSION:2.0
PRODID:-//ChamberMaster//Event Calendar 2.0//EN
METHOD:PUBLISH
X-PUBLISHED-TTL:P3D
REFRESH-INTERVAL:P3D
CALSCALE:GREGORIAN
BEGIN:VEVENT
DTSTART;VALUE=DATE:20161119
DTEND;VALUE=DATE:20161120
TRANSP:TRANSPARENT
X-MICROSOFT-CDO-ALLDAYEVENT:TRUE
SUMMARY:Ribbon Cutting for Panel Built Location Expansion
DESCRIPTION:Everyone is invited to attend a ribbon cutting for Panel Built\, Inc. on Tuesday\, December 13 at 11 a.m.  This local business has recently launched a ballistic building line in a new expansion location at 183 Rock Rd in Blairsville.
X-ALT-DESC;FMTTYPE=text/html:Everyone is invited to attend a ribbon cutting for Panel Built\, Inc.&nbsp\;on Tuesday\, December 13 at 11 a.m.&nbsp\; This local business has recently launched a ballistic building line&nbsp\;in a new expansion location at 183 Rock Rd in Blairsville.
LOCATION:183 Rock Road Blairsville\, GA 30512
UID:e.256.60501
SEQUENCE:3
DTSTAMP:20260420T112732Z
URL:https://members.visitblairsvillega.com/events/details/ribbon-cutting-for-panel-built-location-expansion-60501
END:VEVENT

END:VCALENDAR
