BEGIN:VCALENDAR
VERSION:2.0
PRODID:-//ChamberMaster//Event Calendar 2.0//EN
METHOD:PUBLISH
X-PUBLISHED-TTL:P3D
REFRESH-INTERVAL:P3D
CALSCALE:GREGORIAN
BEGIN:VEVENT
DTSTART:20160617T200000Z
DTEND:20160617T210000Z
X-MICROSOFT-CDO-ALLDAYEVENT:FALSE
SUMMARY:Ribbon Cutting for Paradise Hills Resort and Spa
DESCRIPTION:Paradise Hills Resort and Spa owners\, Bob and Ilke Lander\, invite you to come out and celebrate with them as they showcase their new wedding event space.  Refreshments will be served.
X-ALT-DESC;FMTTYPE=text/html:Paradise Hills Resort and Spa owners\, Bob and Ilke Lander\, invite you to come out and celebrate with them as they showcase their new wedding event space.&nbsp\; Refreshments will be served.
LOCATION:Paradise Hills Resort and Spa 366 Paradise Rd. Blairsville\, GA 30512
UID:e.256.51236
SEQUENCE:3
DTSTAMP:20260420T223200Z
URL:https://members.visitblairsvillega.com/events/details/ribbon-cutting-for-paradise-hills-resort-and-spa-06-17-2016-51236
END:VEVENT

END:VCALENDAR
