BEGIN:VCALENDAR
VERSION:2.0
PRODID:-//ChamberMaster//Event Calendar 2.0//EN
METHOD:PUBLISH
X-PUBLISHED-TTL:P3D
REFRESH-INTERVAL:P3D
CALSCALE:GREGORIAN
BEGIN:VEVENT
DTSTART:20140729T160000Z
DTEND:20140729T170000Z
X-MICROSOFT-CDO-ALLDAYEVENT:FALSE
SUMMARY:Ribbon Cutting for Paris Nails + Hair
DESCRIPTION:Ribbon Cutting for Paris Nails + Hair on Tuesday\, July 29th\, 2014 at 12pm. The ribbon cutting will be held in their salon located at 168 Hwy 515W.\, Ste G\, next door to Circuit World and Domino's Pizza.
X-ALT-DESC;FMTTYPE=text/html:Ribbon Cutting for&nbsp\;Paris Nails + Hair on&nbsp\;Tuesday\, July 29th\, 2014 at 12pm.&nbsp\;The ribbon cutting will be held in their salon located at 168 Hwy 515W.\, Ste G\, next door to Circuit&nbsp\;World and Domino&#39\;s Pizza.<br />\n&nbsp\;
LOCATION:Paris Nails + Hair 168 Hwy 515W.\, Ste. G (next door to Circuit World and Domino Pizza) Blairsville
UID:e.256.24920
SEQUENCE:3
DTSTAMP:20260424T092123Z
URL:https://members.visitblairsvillega.com/events/details/ribbon-cutting-for-paris-nails-hair-07-29-2014-24920
END:VEVENT

END:VCALENDAR
