BEGIN:VCALENDAR
VERSION:2.0
PRODID:-//ChamberMaster//Event Calendar 2.0//EN
METHOD:PUBLISH
X-PUBLISHED-TTL:P3D
REFRESH-INTERVAL:P3D
CALSCALE:GREGORIAN
BEGIN:VEVENT
DTSTART:20170606T200000Z
DTEND:20170606T210000Z
X-MICROSOFT-CDO-ALLDAYEVENT:FALSE
SUMMARY:Ribbon Cutting for Peace River Screen Printing
DESCRIPTION:Peace River Screen Printing is a new business in Blairsville and will be holding a ribbon cutting on Tuesday\, June 6.  Everyone is invited to come and meet Rob and his team and see come of the creative pieces and products that they have to offer.
X-ALT-DESC;FMTTYPE=text/html:Peace River Screen Printing is a new business in Blairsville and will be holding a ribbon cutting on Tuesday\, June 6.&nbsp\; Everyone is invited to come and meet Rob and his team and see come of the creative pieces and products that they have to offer.
LOCATION:Blairsville-Union Chamber of Commerce 129 Union County Rd Blairsville\, GA 30512
UID:e.256.70007
SEQUENCE:3
DTSTAMP:20260419T231936Z
URL:https://members.visitblairsvillega.com/events/details/ribbon-cutting-for-peace-river-screen-printing-70007
END:VEVENT

END:VCALENDAR
