BEGIN:VCALENDAR
VERSION:2.0
PRODID:-//ChamberMaster//Event Calendar 2.0//EN
METHOD:PUBLISH
X-PUBLISHED-TTL:P3D
REFRESH-INTERVAL:P3D
CALSCALE:GREGORIAN
BEGIN:VEVENT
DTSTART:20160906T150000Z
DTEND:20160906T160000Z
X-MICROSOFT-CDO-ALLDAYEVENT:FALSE
SUMMARY:Ribbon Cutting for Pet City USA
DESCRIPTION:Lovers of cats\, dogs\, and birds are all welcome to attend a ribbon cutting for our newest business and pet shop\, Pet City USA!  Come on out and meet owner\, Chris Wilson\, and see what he has available in products and services for your pets.
X-ALT-DESC;FMTTYPE=text/html:Lovers of cats\, dogs\, and birds are all welcome to attend a ribbon cutting for our newest business and pet shop\, Pet City USA!&nbsp\; Come on out and meet owner\, Chris Wilson\, and see what he has available in products and services for your pets.
LOCATION:Pet City USA 1538 Blue Ridge Highway\, Ste. A Blairsville\, GA 30512
UID:e.256.55856
SEQUENCE:3
DTSTAMP:20260420T164306Z
URL:https://members.visitblairsvillega.com/events/details/ribbon-cutting-for-pet-city-usa-09-06-2016-55856
END:VEVENT

END:VCALENDAR
