BEGIN:VCALENDAR
VERSION:2.0
PRODID:-//ChamberMaster//Event Calendar 2.0//EN
METHOD:PUBLISH
X-PUBLISHED-TTL:P3D
REFRESH-INTERVAL:P3D
CALSCALE:GREGORIAN
BEGIN:VEVENT
DTSTART:20150422T183000Z
DTEND:20150422T193000Z
X-MICROSOFT-CDO-ALLDAYEVENT:FALSE
SUMMARY:Ribbon Cutting for Pigs Gone Amuk
DESCRIPTION:Join us for Pigs Gone Amuk's Ribbon Cutting!\n\nRibbon Cutting attendees play for free following the ceremony.
X-ALT-DESC;FMTTYPE=text/html:Join us for Pigs Gone Amuk&#39\;s Ribbon Cutting!<br />\nRibbon Cutting attendees play for free following the ceremony.
LOCATION:Pigs Gone Amuk 4970 Gainesville Hwy Blairsville\, GA 30512 (Across the street from Jim's Smokin Que)
UID:e.256.38094
SEQUENCE:3
DTSTAMP:20260423T212306Z
URL:https://members.visitblairsvillega.com/events/details/ribbon-cutting-for-pigs-gone-amuk-04-22-2015-38094
END:VEVENT

END:VCALENDAR
