BEGIN:VCALENDAR
VERSION:2.0
PRODID:-//ChamberMaster//Event Calendar 2.0//EN
METHOD:PUBLISH
X-PUBLISHED-TTL:P3D
REFRESH-INTERVAL:P3D
CALSCALE:GREGORIAN
BEGIN:VEVENT
DTSTART:20141008T153000Z
DTEND:20141008T163000Z
X-MICROSOFT-CDO-ALLDAYEVENT:FALSE
SUMMARY:Ribbon Cutting for Premier Home and Property Services
DESCRIPTION:Please join us for a ribbon cutting ceremony at 11:30am on Wednesday\, October 8th for Premier Home and Property Services. Come and out meet owners Brad Earwood and Joe Turner\, learn about all of the services they will offer in their new business.The ribbon cutting celebration will be held at the Chamber in the Union County Community Center.\n\nRefreshments will be available.
X-ALT-DESC;FMTTYPE=text/html:<span style="font-size: 12px\;">Please join us for a ribbon cutting ceremony at 11:30am on&nbsp\;Wednesday\, October 8th&nbsp\;for Premier Home and Property&nbsp\;Services. Come and out meet owners Brad&nbsp\;Earwood and Joe Turner\,&nbsp\;learn about&nbsp\;all of the services they will offer in their&nbsp\;new business.The ribbon cutting celebration will be held at the Chamber in the Union County Community Center.<br />\nRefreshments will be available.</span>
LOCATION:Union County Community Center 129 Union County Rec Rd Blairsville\, GA
UID:e.256.27444
SEQUENCE:3
DTSTAMP:20260424T045627Z
URL:https://members.visitblairsvillega.com/events/details/ribbon-cutting-for-premier-home-and-property-services-10-08-2014-27444
END:VEVENT

END:VCALENDAR
