BEGIN:VCALENDAR
VERSION:2.0
PRODID:-//ChamberMaster//Event Calendar 2.0//EN
METHOD:PUBLISH
X-PUBLISHED-TTL:P3D
REFRESH-INTERVAL:P3D
CALSCALE:GREGORIAN
BEGIN:VEVENT
DTSTART:20150814T200000Z
DTEND:20150814T210000Z
X-MICROSOFT-CDO-ALLDAYEVENT:FALSE
SUMMARY:Ribbon Cutting for Rafter's Truck & Trailer Repair\, LLC
DESCRIPTION:Truck on down to Rafter's Truck & Trailer Repair\, LLC and give a Blairsville welcome to Brandon Perry as we celebrate this new business with a ribbon cutting.
X-ALT-DESC;FMTTYPE=text/html:Truck on down to Rafter&#39\;s Truck &amp\; Trailer Repair\, LLC and give a Blairsville welcome to Brandon Perry as we celebrate this new business with a ribbon cutting.
LOCATION:39 Dillard Road Blairsville\, GA 30512
UID:e.256.40431
SEQUENCE:3
DTSTAMP:20260423T134654Z
URL:https://members.visitblairsvillega.com/events/details/ribbon-cutting-for-rafter-s-truck-trailer-repair-llc-08-14-2015-40431
END:VEVENT

END:VCALENDAR
