BEGIN:VCALENDAR
VERSION:2.0
PRODID:-//ChamberMaster//Event Calendar 2.0//EN
METHOD:PUBLISH
X-PUBLISHED-TTL:P3D
REFRESH-INTERVAL:P3D
CALSCALE:GREGORIAN
BEGIN:VEVENT
DTSTART:20170327T150000Z
DTEND:20170327T160000Z
X-MICROSOFT-CDO-ALLDAYEVENT:FALSE
SUMMARY:Ribbon Cutting for Ray Arrazcaeta - Blairsville Realty
DESCRIPTION:Everyone is invited to attend a ribbon cutting for Ray Arrazcaeta with Blairsville Realty.  Come on out to meet Ray and see what is happening in our local real estate market.  Refreshments will be served.
X-ALT-DESC;FMTTYPE=text/html:Everyone is invited to attend a ribbon cutting for Ray Arrazcaeta with Blairsville Realty.&nbsp\; Come on out to meet Ray and see what is happening in our local real estate market.&nbsp\; Refreshments will be served.
LOCATION:Blairsville Realty 63 Murphy Hwy Blairsville\, GA 30512
UID:e.256.66540
SEQUENCE:3
DTSTAMP:20260420T042958Z
URL:https://members.visitblairsvillega.com/events/details/ribbon-cutting-for-ray-arrazcaeta-blairsville-realty-66540
END:VEVENT

END:VCALENDAR
