BEGIN:VCALENDAR
VERSION:2.0
PRODID:-//ChamberMaster//Event Calendar 2.0//EN
METHOD:PUBLISH
X-PUBLISHED-TTL:P3D
REFRESH-INTERVAL:P3D
CALSCALE:GREGORIAN
BEGIN:VEVENT
DTSTART:20150112T160000Z
DTEND:20150112T170000Z
X-MICROSOFT-CDO-ALLDAYEVENT:FALSE
SUMMARY:Ribbon Cutting for Relay For Life
DESCRIPTION:The Chamber would like to extend an invitation to a ribbon cutting for Relay For Life\, Monday\, January 12th at 11:00am.The ribbon cutting will be held in the Union County Community Center. Come in and meet Brooke Van Buskirk\, Specialist\, Relay for Life South Atlantic Division and American Cancer Society.
X-ALT-DESC;FMTTYPE=text/html:<span style="font-size: 12px\;"><span style="font-family: verdana\;">The Chamber would like to&nbsp\;extend an&nbsp\;invitation to a ribbon cutting for&nbsp\;<font face="Verdana">Relay For Life\, Monday\,&nbsp\;January 12th&nbsp\;at 11:00am.The ribbon cutting will be&nbsp\;held in the Union County Community Center.&nbsp\;Come in and meet Brooke Van Buskirk</font></span></span><span style="font-size: 12px\;"><span style="font-family: verdana\;"><font face="Verdana">\, Specialist\, Relay for Life South Atlantic Division and American Cancer Society</font></span></span>.
LOCATION:Union County Community Center 129 Union County Rec Rd Blairsville\, GA
UID:e.256.33605
SEQUENCE:3
DTSTAMP:20260424T003359Z
URL:https://members.visitblairsvillega.com/events/details/ribbon-cutting-for-relay-for-life-01-12-2015-33605
END:VEVENT

END:VCALENDAR
