BEGIN:VCALENDAR
VERSION:2.0
PRODID:-//ChamberMaster//Event Calendar 2.0//EN
METHOD:PUBLISH
X-PUBLISHED-TTL:P3D
REFRESH-INTERVAL:P3D
CALSCALE:GREGORIAN
BEGIN:VEVENT
DTSTART:20170508T170000Z
DTEND:20170508T180000Z
X-MICROSOFT-CDO-ALLDAYEVENT:FALSE
SUMMARY:Ribbon Cutting for Run Above The Clouds
DESCRIPTION:Since 2000\, the Run Above the Clouds has offered 10K and 5K road races over a beautifully scenic\, challenging out-and-back course and a one-mile flat course run.  To kick off the 2017 race year\, a ribbon cutting ceremony will be held at the Suches Community Center.
X-ALT-DESC;FMTTYPE=text/html:<span style="font-weight: 400\;"><span style="font-weight: 400\;">Since 2000\, the Run Above the Clouds has&nbsp\;offered 10K and 5K road races over a beautifully scenic\, challenging out-and-back course&nbsp\;and a one-mile flat course run.&nbsp\; To kick off the 2017 race year\, a ribbon cutting ceremony will be held at the Suches Community Center.</span></span><br />\n&nbsp\;
LOCATION:Suches Community Center 40 Firewater Lane Suches\, GA
UID:e.256.71791
SEQUENCE:3
DTSTAMP:20260420T020408Z
URL:https://members.visitblairsvillega.com/events/details/ribbon-cutting-for-run-above-the-clouds-71791
END:VEVENT

END:VCALENDAR
