BEGIN:VCALENDAR
VERSION:2.0
PRODID:-//ChamberMaster//Event Calendar 2.0//EN
METHOD:PUBLISH
X-PUBLISHED-TTL:P3D
REFRESH-INTERVAL:P3D
CALSCALE:GREGORIAN
BEGIN:VEVENT
DTSTART:20161115T163000Z
DTEND:20161115T173000Z
X-MICROSOFT-CDO-ALLDAYEVENT:FALSE
SUMMARY:Ribbon Cutting for Rustic Mountain Decor
DESCRIPTION:Welcome June McEldowney\, with Rustic Mountain Decor\, as one of our newest business owners in Blairsville-Union County.  Her shop is filled with delightfully tasteful items for your home\, cabin\, or home-away-from-home.  To celebrate\, we will be having a ribbon cutting and everyone is invited to attend.
X-ALT-DESC;FMTTYPE=text/html:Welcome June McEldowney\, with Rustic Mountain Decor\, as one of our newest business owners in Blairsville-Union County.&nbsp\; Her shop is filled with delightfully tasteful items for your home\, cabin\, or home-away-from-home.&nbsp\; To celebrate\, we will be having a ribbon cutting and everyone is invited to attend.
LOCATION:294 Hwy 515\, Ste. A Blairsville\, GA 30512 (Hillcrest Plaza)
UID:e.256.59457
SEQUENCE:3
DTSTAMP:20260420T111620Z
URL:https://members.visitblairsvillega.com/events/details/ribbon-cutting-for-rustic-mountain-decor-59457
END:VEVENT

END:VCALENDAR
