BEGIN:VCALENDAR
VERSION:2.0
PRODID:-//ChamberMaster//Event Calendar 2.0//EN
METHOD:PUBLISH
X-PUBLISHED-TTL:P3D
REFRESH-INTERVAL:P3D
CALSCALE:GREGORIAN
BEGIN:VEVENT
DTSTART:20151030T183000Z
DTEND:20151030T193000Z
X-MICROSOFT-CDO-ALLDAYEVENT:FALSE
SUMMARY:Ribbon Cutting for Salon Tru
DESCRIPTION:Susan Anderson and the ladies from Salon Tru are excited to invited everyone to be a part of their October 30 ribbon cutting.  With 10% off of all hair care products and a flat iron raffle ($150 raffle)\, there's a lot going on at Salon Tru!
X-ALT-DESC;FMTTYPE=text/html:Susan Anderson and the ladies from Salon Tru are excited to invited everyone to be a part of their October 30 ribbon cutting.&nbsp\; With 10% off of all hair care products and a flat iron raffle ($150 raffle)\, there&#39\;s a lot going on at Salon Tru!
LOCATION:417 Blue Ridge Street Unit G (next door to the Bagel Barn) Blairsville\, GA 30512
UID:e.256.43941
SEQUENCE:3
DTSTAMP:20260423T103646Z
URL:https://members.visitblairsvillega.com/events/details/ribbon-cutting-for-salon-tru-10-30-2015-43941
END:VEVENT

END:VCALENDAR
