BEGIN:VCALENDAR
VERSION:2.0
PRODID:-//ChamberMaster//Event Calendar 2.0//EN
METHOD:PUBLISH
X-PUBLISHED-TTL:P3D
REFRESH-INTERVAL:P3D
CALSCALE:GREGORIAN
BEGIN:VEVENT
DTSTART:20150320T150000Z
DTEND:20150320T160000Z
X-MICROSOFT-CDO-ALLDAYEVENT:FALSE
SUMMARY:Ribbon Cutting for Schuckers & Associates\, P.C.
DESCRIPTION:THIRD TIME'S A CHARM!\n\nSchuckers & Associates\, P.C. is pleased to announce their grand opening.  Please join us in welcoming them to our community.
X-ALT-DESC;FMTTYPE=text/html:THIRD TIME&#39\;S A CHARM!<br />\nSchuckers &amp\; Associates\, P.C. is pleased to announce their grand opening.&nbsp\; Please join us in welcoming them to our community.
LOCATION:126 Blue Ridge Street Blairsville\, Ga 30512
UID:e.256.36507
SEQUENCE:3
DTSTAMP:20260423T230240Z
URL:https://members.visitblairsvillega.com/events/details/ribbon-cutting-for-schuckers-associates-p-c-03-20-2015-36507
END:VEVENT

END:VCALENDAR
