BEGIN:VCALENDAR
VERSION:2.0
PRODID:-//ChamberMaster//Event Calendar 2.0//EN
METHOD:PUBLISH
X-PUBLISHED-TTL:P3D
REFRESH-INTERVAL:P3D
CALSCALE:GREGORIAN
BEGIN:VEVENT
DTSTART:20150415T180000Z
DTEND:20150415T190000Z
X-MICROSOFT-CDO-ALLDAYEVENT:FALSE
SUMMARY:Ribbon Cutting for Scott Michael Anna Photography
DESCRIPTION:Join us for Scott Michael Anna Photography for his Ribbon Cutting! The event will be at Meeks Park. Attendees will receive a 50% OFF On-Location or In-Studio certificate at the time of the ceremony.\n\n(This is a $100 value!)
X-ALT-DESC;FMTTYPE=text/html:Join us for Scott Michael Anna Photography for his Ribbon Cutting! The event will be at Meeks Park. Attendees will receive a&nbsp\;50% OFF On-Location or In-Studio certificate at the&nbsp\;time of the ceremony.<br />\n(This is a $100 value!)
LOCATION:Meeks Park (If there is inclement weather\, the event will be held at the Chamber)
UID:e.256.38093
SEQUENCE:3
DTSTAMP:20260423T200750Z
URL:https://members.visitblairsvillega.com/events/details/ribbon-cutting-for-scott-michael-anna-photography-04-15-2015-38093
END:VEVENT

END:VCALENDAR
