BEGIN:VCALENDAR
VERSION:2.0
PRODID:-//ChamberMaster//Event Calendar 2.0//EN
METHOD:PUBLISH
X-PUBLISHED-TTL:P3D
REFRESH-INTERVAL:P3D
CALSCALE:GREGORIAN
BEGIN:VEVENT
DTSTART:20170906T140000Z
DTEND:20170906T150000Z
X-MICROSOFT-CDO-ALLDAYEVENT:FALSE
SUMMARY:Ribbon Cutting for Sensational Shakes
DESCRIPTION:A ribbon cutting celebration will be held for Sensational Shakes.  Sensational Shakes has something for everyone including signature shakes\, green teas\, smoothies\, lunch wraps\, protein bowls and even sweet treats!  Everyone is invited to this special event.
X-ALT-DESC;FMTTYPE=text/html:<span style="font-size:11pt\;"><span style="font-family:calibri\,sans-serif\;">A ribbon cutting celebration will be held for <em>Sensational Shakes.&nbsp\; Sensational Shakes</em> has something for everyone including</span></span><span style="font-size:11pt\;"><span style="font-family:calibri\,sans-serif\;"> signature shakes\, green teas\, smoothies\, lunch wraps\, protein bowls and even sweet treats!&nbsp\; Everyone is invited to this special event.</span></span>
LOCATION:64 Bracketts Way\, Suite 5 Blairsville\, GA 30512
UID:e.256.75347
SEQUENCE:3
DTSTAMP:20260419T175432Z
URL:https://members.visitblairsvillega.com/events/details/ribbon-cutting-for-sensational-shakes-75347
END:VEVENT

END:VCALENDAR
