BEGIN:VCALENDAR
VERSION:2.0
PRODID:-//ChamberMaster//Event Calendar 2.0//EN
METHOD:PUBLISH
X-PUBLISHED-TTL:P3D
REFRESH-INTERVAL:P3D
CALSCALE:GREGORIAN
BEGIN:VEVENT
DTSTART:20171129T203000Z
DTEND:20171129T213000Z
X-MICROSOFT-CDO-ALLDAYEVENT:FALSE
SUMMARY:Ribbon Cutting for Sentinel Plastic Surgery
DESCRIPTION:A ribbon cutting celebration will be held for Sentinel Plastic Surgery.  Come meet Dr. Frazier\, a former associate professor of plastic surgery at Yale University School of Medicine\, and his dedicated staff of experts.  Dr. Frazier and his staff are committed to the care and improvement of your skin and the structures\, and your overall health with a focus on cancer prevention\, identification\, and reconstruction.\n\n\n\nThere will be door prizes\, food\, facials\, and giveaways.  Everyone is invited to attend!
X-ALT-DESC;FMTTYPE=text/html:A ribbon cutting celebration will be held for Sentinel Plastic Surgery.&nbsp\; Come meet Dr. Frazier\, a former associate professor of plastic surgery at Yale University School of Medicine\, and his dedicated staff of experts.&nbsp\; Dr. Frazier and his staff are committed to the care and improvement of your skin and the structures\, and your overall health with a focus on cancer prevention\, identification\, and reconstruction.<br />\n<br />\n<strong>There will be door prizes\, food\, facials\, and giveaways.&nbsp\; Everyone is invited to attend!</strong>
LOCATION:123 Weaver Road\, Suite B Blairsville\, GA 30512 (located across from ambulances)
UID:e.256.76816
SEQUENCE:3
DTSTAMP:20260419T141130Z
URL:https://members.visitblairsvillega.com/events/details/ribbon-cutting-for-sentinel-plastic-surgery-76816
END:VEVENT

END:VCALENDAR
