BEGIN:VCALENDAR
VERSION:2.0
PRODID:-//ChamberMaster//Event Calendar 2.0//EN
METHOD:PUBLISH
X-PUBLISHED-TTL:P3D
REFRESH-INTERVAL:P3D
CALSCALE:GREGORIAN
BEGIN:VEVENT
DTSTART:20150615T150000Z
DTEND:20150615T160000Z
X-MICROSOFT-CDO-ALLDAYEVENT:FALSE
SUMMARY:Ribbon Cutting for Shady Grove United Methodist Church
DESCRIPTION:Come join Pastor Pitts as we celebrate Shady Grove United Methodist Church.
X-ALT-DESC;FMTTYPE=text/html:Come join Pastor Pitts as we celebrate Shady Grove United Methodist Church.
LOCATION:From Hwy 129 South\, turn right on to Spiva Bridge Way (just past Jim's Smokin' Que). At the end of Spiva Bridge Way\, turn right on to Owl Town Road. The church is on the right. 1604 Owl Town Rd.\, Blairsville\, GA 30512
UID:e.256.40310
SEQUENCE:3
DTSTAMP:20260423T165927Z
URL:https://members.visitblairsvillega.com/events/details/ribbon-cutting-for-shady-grove-united-methodist-church-06-15-2015-40310
END:VEVENT

END:VCALENDAR
