BEGIN:VCALENDAR
VERSION:2.0
PRODID:-//ChamberMaster//Event Calendar 2.0//EN
METHOD:PUBLISH
X-PUBLISHED-TTL:P3D
REFRESH-INTERVAL:P3D
CALSCALE:GREGORIAN
BEGIN:VEVENT
DTSTART:20160119T190000Z
DTEND:20160119T200000Z
X-MICROSOFT-CDO-ALLDAYEVENT:FALSE
SUMMARY:Ribbon Cutting for Shepherd of the Hills Lutheran Church
DESCRIPTION:A ribbon cutting will be held at the Union County Community Center for the Shepherd of the Hills Lutheran Church.  Everyone is invited to come and meet Pastor James Kroninger.  Refreshments will be served.
X-ALT-DESC;FMTTYPE=text/html:A ribbon cutting will be held at the Union County Community Center for the Shepherd of the Hills Lutheran Church.&nbsp\; Everyone is invited to come and meet&nbsp\;Pastor James Kroninger.&nbsp\;&nbsp\;Refreshments will be served.
LOCATION:Blairsville-Union County Chamber of Commerce 129 Union County Recreation Road Blairsville\, GA 30512
UID:e.256.45371
SEQUENCE:3
DTSTAMP:20260421T060619Z
URL:https://members.visitblairsvillega.com/events/details/ribbon-cutting-for-shepherd-of-the-hills-lutheran-church-01-19-2016-45371
END:VEVENT

END:VCALENDAR
