BEGIN:VCALENDAR
VERSION:2.0
PRODID:-//ChamberMaster//Event Calendar 2.0//EN
METHOD:PUBLISH
X-PUBLISHED-TTL:P3D
REFRESH-INTERVAL:P3D
CALSCALE:GREGORIAN
BEGIN:VEVENT
DTSTART:20150522T200000Z
DTEND:20150522T210000Z
X-MICROSOFT-CDO-ALLDAYEVENT:FALSE
SUMMARY:Ribbon Cutting for Shuttersmith by Interior Solutions
DESCRIPTION:Please join us for Shuttersmith by Interior Solutions' Ribbon Cutting! Meet the owners and see their custom made blinds\, shutters and more!
X-ALT-DESC;FMTTYPE=text/html:Please join us for Shuttersmith by Interior Solutions&#39\; Ribbon Cutting! Meet the owners and see their custom made blinds\, shutters and more!
LOCATION:Union County Community Cente 129 Union County Recreation Road Blairsville\, GA 30512
UID:e.256.39916
SEQUENCE:3
DTSTAMP:20260423T182238Z
URL:https://members.visitblairsvillega.com/events/details/ribbon-cutting-for-shuttersmith-by-interior-solutions-05-22-2015-39916
END:VEVENT

END:VCALENDAR
