BEGIN:VCALENDAR
VERSION:2.0
PRODID:-//ChamberMaster//Event Calendar 2.0//EN
METHOD:PUBLISH
X-PUBLISHED-TTL:P3D
REFRESH-INTERVAL:P3D
CALSCALE:GREGORIAN
BEGIN:VEVENT
DTSTART:20160919T200000Z
DTEND:20160919T210000Z
X-MICROSOFT-CDO-ALLDAYEVENT:FALSE
SUMMARY:Ribbon Cutting for Simply Home Setup\, LLC
DESCRIPTION:Everyone is invited to come and meet\, Jim McCracken\, owner of Simply Home Setup\, as the Blairsville-Union Chamber of Commerce celebrates the opening of his new business with a ribbon cutting.
X-ALT-DESC;FMTTYPE=text/html:Everyone is invited to come and meet\, Jim McCracken\, owner of Simply Home Setup\, as the Blairsville-Union Chamber of Commerce celebrates the opening of his new business with a ribbon cutting.
LOCATION:Blairsville-Union County Chamber of Commerce 129 Union County Recreation Road Blairsville\, GA 30512
UID:e.256.55855
SEQUENCE:3
DTSTAMP:20260420T144410Z
URL:https://members.visitblairsvillega.com/events/details/ribbon-cutting-for-simply-home-setup-llc-09-19-2016-55855
END:VEVENT

END:VCALENDAR
