BEGIN:VCALENDAR
VERSION:2.0
PRODID:-//ChamberMaster//Event Calendar 2.0//EN
METHOD:PUBLISH
X-PUBLISHED-TTL:P3D
REFRESH-INTERVAL:P3D
CALSCALE:GREGORIAN
BEGIN:VEVENT
DTSTART:20151019T140000Z
DTEND:20151019T150000Z
X-MICROSOFT-CDO-ALLDAYEVENT:FALSE
SUMMARY:Ribbon Cutting for Snack in a Backpack
DESCRIPTION:Snack in a Backpack has joined the Blairsville-Union County Chamber and will be celebrating with a ribbon cutting on Monday\, October 19 @ 10 a.m.  Everyone is encouraged to attend and meet Tammy Holloway\, CEO\, and learn about this awesome non-profit organization that provides food for children in need.  She will also be introducing their newest program\, "Bags for Babies."
X-ALT-DESC;FMTTYPE=text/html:Snack in a Backpack has joined the Blairsville-Union County Chamber and will be celebrating with a ribbon cutting on Monday\, October 19 @ 10 a.m.&nbsp\; Everyone is encouraged to attend and meet Tammy Holloway\, CEO\, and learn about this awesome non-profit organization that provides food for children in need.&nbsp\; She will also be introducing their newest program\, &quot\;Bags for Babies.&quot\;
LOCATION:Blairsville-Union County Chamber of Commerce 129 Union County Recreation Road Blairsville\, GA 30512
UID:e.256.43925
SEQUENCE:3
DTSTAMP:20260423T115705Z
URL:https://members.visitblairsvillega.com/events/details/ribbon-cutting-for-snack-in-a-backpack-10-19-2015-43925
END:VEVENT

END:VCALENDAR
