BEGIN:VCALENDAR
VERSION:2.0
PRODID:-//ChamberMaster//Event Calendar 2.0//EN
METHOD:PUBLISH
X-PUBLISHED-TTL:P3D
REFRESH-INTERVAL:P3D
CALSCALE:GREGORIAN
BEGIN:VEVENT
DTSTART:20151104T193000Z
DTEND:20151104T203000Z
X-MICROSOFT-CDO-ALLDAYEVENT:FALSE
SUMMARY:Ribbon Cutting for Stonehenge Assisted Living
DESCRIPTION:A ribbon cutting to celebrate the expansion of the Stonehenge Assisted Living facility will be taking place with the opening of their "Fourth Building!"  Everyone is invited to see the facility and refreshments will be served.
X-ALT-DESC;FMTTYPE=text/html:A ribbon cutting&nbsp\;to celebrate the&nbsp\;expansion of the Stonehenge Assisted Living facility will be taking place with the opening of their &quot\;Fourth Building!&quot\;&nbsp\; Everyone is invited to see the facility and refreshments will be served.
LOCATION:Stonehenge Assisted Living 168 Stonehenge Drive Blairsville\, GA 30512 (off of Murphy Highway)
UID:e.256.44327
SEQUENCE:3
DTSTAMP:20260423T085810Z
URL:https://members.visitblairsvillega.com/events/details/ribbon-cutting-for-stonehenge-assisted-living-11-04-2015-44327
END:VEVENT

END:VCALENDAR
