BEGIN:VCALENDAR
VERSION:2.0
PRODID:-//ChamberMaster//Event Calendar 2.0//EN
METHOD:PUBLISH
X-PUBLISHED-TTL:P3D
REFRESH-INTERVAL:P3D
CALSCALE:GREGORIAN
BEGIN:VEVENT
DTSTART:20151016T200000Z
DTEND:20151016T210000Z
X-MICROSOFT-CDO-ALLDAYEVENT:FALSE
SUMMARY:Ribbon Cutting for Sunflower Antiques & Interiors
DESCRIPTION:Another new and exciting business will be joining The Square!  Sunflower Antiques & Interiors will be opening their doors and inviting everyone to join them for a ribbon cutting.  Owner\, P.J. Bair promises a beautiful retail shop specializing in upscale and unique antiques along with interior design for home and office.
X-ALT-DESC;FMTTYPE=text/html:Another new and exciting business will be joining The Square!&nbsp\; Sunflower Antiques &amp\; Interiors will be opening their doors and inviting everyone to join them for a ribbon cutting.&nbsp\; Owner\, P.J. Bair promises a beautiful retail shop specializing in upscale and unique antiques along with&nbsp\;interior design for home and office.
LOCATION:12A Town Square Blairsville\, GA 30512
UID:e.256.43934
SEQUENCE:3
DTSTAMP:20260423T103722Z
URL:https://members.visitblairsvillega.com/events/details/ribbon-cutting-for-sunflower-antiques-interiors-10-16-2015-43934
END:VEVENT

END:VCALENDAR
