BEGIN:VCALENDAR
VERSION:2.0
PRODID:-//ChamberMaster//Event Calendar 2.0//EN
METHOD:PUBLISH
X-PUBLISHED-TTL:P3D
REFRESH-INTERVAL:P3D
CALSCALE:GREGORIAN
BEGIN:VEVENT
DTSTART:20170817T140000Z
DTEND:20170817T150000Z
X-MICROSOFT-CDO-ALLDAYEVENT:FALSE
SUMMARY:Ribbon Cutting for Taylor Insurance Group
DESCRIPTION:A ribbon cutting celebration will be held for Taylor Insurance Group.  Everyone is invited to come meet the staff\, who are dedicated to providing outstanding service to all their customers.
X-ALT-DESC;FMTTYPE=text/html:<span style="font-size:11pt\;"><span style="font-family:calibri\,sans-serif\;">A ribbon cutting celebration will be held for <em>Taylor Insurance Group.&nbsp\; </em>Everyone is invited to come meet the staff\, who are dedicated to providing outstanding service to all their customers.</span></span>
LOCATION:Blairsville-Union County Chamber of Commerce 129 Union County Recreation Rd Blairsville\, GA 30512
UID:e.256.75276
SEQUENCE:3
DTSTAMP:20260419T210621Z
URL:https://members.visitblairsvillega.com/events/details/ribbon-cutting-for-taylor-insurance-group-75276
END:VEVENT

END:VCALENDAR
