BEGIN:VCALENDAR
VERSION:2.0
PRODID:-//ChamberMaster//Event Calendar 2.0//EN
METHOD:PUBLISH
X-PUBLISHED-TTL:P3D
REFRESH-INTERVAL:P3D
CALSCALE:GREGORIAN
BEGIN:VEVENT
DTSTART:20170404T170000Z
DTEND:20170404T180000Z
X-MICROSOFT-CDO-ALLDAYEVENT:FALSE
SUMMARY:Ribbon Cutting for TechWizards of Blairsville\, Ltd. Co.
DESCRIPTION:A ribbon cutting will be held for TechWizards of Blairsville\, Ltd. Co on Tuesday\, April 4 at 1 p.m.  Located at 168 Hwy 515\, West - Ste. E\, TechWizards specializes in repairs of computers\, smartphones\, tablets\, HDTVs\, and game consoles.
X-ALT-DESC;FMTTYPE=text/html:A ribbon cutting will be held for TechWizards of Blairsville\, Ltd. Co on Tuesday\, April 4 at 1 p.m.&nbsp\; Located at 168 Hwy 515\, West - Ste. E\, TechWizards specializes in repairs of computers\, smartphones\, tablets\, HDTVs\, and game consoles.
LOCATION:TechWizards of Blairsville\, Ltd. Co. 168 Hwy 151\, West - Ste. E Blairsville\, GA 30512
UID:e.256.66541
SEQUENCE:3
DTSTAMP:20260420T035332Z
URL:https://members.visitblairsvillega.com/events/details/ribbon-cutting-for-techwizards-of-blairsville-ltd-co-66541
END:VEVENT

END:VCALENDAR
