BEGIN:VCALENDAR
VERSION:2.0
PRODID:-//ChamberMaster//Event Calendar 2.0//EN
METHOD:PUBLISH
X-PUBLISHED-TTL:P3D
REFRESH-INTERVAL:P3D
CALSCALE:GREGORIAN
BEGIN:VEVENT
DTSTART:20170926T150000Z
DTEND:20170926T160000Z
X-MICROSOFT-CDO-ALLDAYEVENT:FALSE
SUMMARY:Ribbon Cutting for The Craddock Center
DESCRIPTION:A ribbon cutting celebration will be held for The Craddock Center. The Craddock Center exists to enrich the lives of the people of Southern Appalachia through programs of education\, cultural enhancement and service\, and by encouraging communities\, families\, and children to advance educationally\, socially\, and spiritually. Everyone is invited to this special event.
X-ALT-DESC;FMTTYPE=text/html:<span style="font-size:medium\;"><span style="font-family:calibri\;">A ribbon cutting celebration will be held for <em>The Craddock Center</em>. The Craddock Center exists to enrich the lives of the people of Southern Appalachia through programs of education\, cultural enhancement and service\, and by encouraging communities\, families\, and children to advance educationally\, socially\, and spiritually. Everyone is invited to this special event.</span></span>
LOCATION:Blairsville-Union County Chamber of Commerce 129 Union County Recreation Rd Blairsville\, GA 30512
UID:e.256.75353
SEQUENCE:3
DTSTAMP:20260419T175321Z
URL:https://members.visitblairsvillega.com/events/details/ribbon-cutting-for-the-craddock-center-75353
END:VEVENT

END:VCALENDAR
