BEGIN:VCALENDAR
VERSION:2.0
PRODID:-//ChamberMaster//Event Calendar 2.0//EN
METHOD:PUBLISH
X-PUBLISHED-TTL:P3D
REFRESH-INTERVAL:P3D
CALSCALE:GREGORIAN
BEGIN:VEVENT
DTSTART:20150424T180000Z
DTEND:20150424T190000Z
X-MICROSOFT-CDO-ALLDAYEVENT:FALSE
SUMMARY:Ribbon Cutting for The Griddle Cafe and Deli
DESCRIPTION:Please join us in celebrating new ownership for The Griddle Cafe and Deli and their Ribbon Cutting! There will be yummy tastings from their menu and you can check out their renovated restaurant!
X-ALT-DESC;FMTTYPE=text/html:Please join us in celebrating new ownership for The Griddle Cafe and Deli and their Ribbon Cutting! There will be yummy tastings from their menu and you can check out their renovated restaurant!
LOCATION:The Griddle Cafe and Deli 19C Cobalt Street Blairsville\, GA 30512
UID:e.256.39914
SEQUENCE:3
DTSTAMP:20260423T212244Z
URL:https://members.visitblairsvillega.com/events/details/ribbon-cutting-for-the-griddle-cafe-and-deli-04-24-2015-39914
END:VEVENT

END:VCALENDAR
