BEGIN:VCALENDAR
VERSION:2.0
PRODID:-//ChamberMaster//Event Calendar 2.0//EN
METHOD:PUBLISH
X-PUBLISHED-TTL:P3D
REFRESH-INTERVAL:P3D
CALSCALE:GREGORIAN
BEGIN:VEVENT
DTSTART:20170331T200000Z
DTEND:20170331T210000Z
X-MICROSOFT-CDO-ALLDAYEVENT:FALSE
SUMMARY:Ribbon Cutting for The Massage Place
DESCRIPTION:The newest facility specializing in massage therapy has opened in Blairsville!  The Massage Place located at 411 Hwy 515\, Ste. A will be celebrating with a ribbon cutting.  Everyone is invited to come out and meet Jennifer Ingram and learn more about the benefits of massage therapy.  A business card raffle will be held and refreshments will be served.
X-ALT-DESC;FMTTYPE=text/html:The newest facility specializing in massage therapy has opened in Blairsville! &nbsp\;The Massage Place located at 411 Hwy 515\, Ste. A will be celebrating with a ribbon cutting. &nbsp\;Everyone is invited to come out and meet Jennifer Ingram and learn more about the benefits of massage therapy. &nbsp\;A business card raffle will be held and refreshments will be served.
LOCATION:The Massage Place 411 Hwy 515\, Ste. A Blairsville\, GA 30512
UID:e.256.62169
SEQUENCE:3
DTSTAMP:20260420T042537Z
URL:https://members.visitblairsvillega.com/events/details/ribbon-cutting-for-the-massage-place-62169
END:VEVENT

END:VCALENDAR
