BEGIN:VCALENDAR
VERSION:2.0
PRODID:-//ChamberMaster//Event Calendar 2.0//EN
METHOD:PUBLISH
X-PUBLISHED-TTL:P3D
REFRESH-INTERVAL:P3D
CALSCALE:GREGORIAN
BEGIN:VEVENT
DTSTART:20140402T150000Z
DTEND:20140402T160000Z
X-MICROSOFT-CDO-ALLDAYEVENT:FALSE
SUMMARY:Ribbon Cutting for The Mountain Home Show and Your Inspection Expert
DESCRIPTION:Ribbon cutting on Wednesday\, April 2nd at 11:00am at the chamber office\, located inside the Union County Community Center. Come by and meet our newest member\, Richard MacCrea\, organizer of the Mountain Home Show and his learn more about his business called Your Inspection Expert www.yourinspectionexpert.com.\n\nVisit their website: www.mountainhomeshow.com for more information
X-ALT-DESC;FMTTYPE=text/html:Ribbon cutting on Wednesday\, April 2nd at 11:00am at the chamber&nbsp\;office\, located inside the&nbsp\;Union County Community Center. Come by and meet our newest member\, Richard MacCrea\, organizer of the Mountain Home Show and his learn more about his business called Your Inspection Expert www.yourinspectionexpert.com.<br />\nVisit their website: www.mountainhomeshow.com for more information
LOCATION:Union County Community Center 129 Union County Rec Rd Blairsville
UID:e.256.23447
SEQUENCE:3
DTSTAMP:20260424T135839Z
URL:https://members.visitblairsvillega.com/events/details/ribbon-cutting-for-the-mountain-home-show-and-your-inspection-expert-04-02-2014-23447
END:VEVENT

END:VCALENDAR
