BEGIN:VCALENDAR
VERSION:2.0
PRODID:-//ChamberMaster//Event Calendar 2.0//EN
METHOD:PUBLISH
X-PUBLISHED-TTL:P3D
REFRESH-INTERVAL:P3D
CALSCALE:GREGORIAN
BEGIN:VEVENT
DTSTART:20151002T150000Z
DTEND:20151002T160000Z
X-MICROSOFT-CDO-ALLDAYEVENT:FALSE
SUMMARY:Ribbon Cutting for The Mountain Life Team/Keller Williams Realty
DESCRIPTION:The Mountain Life Team / Keller Williams Realty is having a Ribbon Cutting and Customer Appreciation celebration beginning at 11 a.m. until 5 p.m.  They cordially invite everyone to be a part of the celebration with hot dogs\, hamburgers\, drawings\, music\, and all the fixins!
X-ALT-DESC;FMTTYPE=text/html:The Mountain Life Team / Keller Williams Realty is having a Ribbon Cutting and Customer Appreciation celebration beginning at 11 a.m.&nbsp\;until 5 p.m.&nbsp\; They cordially invite everyone to&nbsp\;be a part of&nbsp\;the celebration with hot dogs\, hamburgers\, drawings\, music\, and all the fixins!
LOCATION:108 Blue Ridge Highway Blairsville
UID:e.256.43915
SEQUENCE:3
DTSTAMP:20260423T104003Z
URL:https://members.visitblairsvillega.com/events/details/ribbon-cutting-for-the-mountain-life-team-keller-williams-realty-10-02-2015-43915
END:VEVENT

END:VCALENDAR
